BEGIN:VCALENDAR
VERSION:2.0
PRODID:-//Raspe Radio - ECPv6.15.20//NONSGML v1.0//EN
CALSCALE:GREGORIAN
METHOD:PUBLISH
X-WR-CALNAME:Raspe Radio
X-ORIGINAL-URL:https://rasperadio.com
X-WR-CALDESC:Events for Raspe Radio
REFRESH-INTERVAL;VALUE=DURATION:PT1H
X-Robots-Tag:noindex
X-PUBLISHED-TTL:PT1H
BEGIN:VTIMEZONE
TZID:UTC
BEGIN:STANDARD
TZOFFSETFROM:+0000
TZOFFSETTO:+0000
TZNAME:UTC
DTSTART:20250101T000000
END:STANDARD
END:VTIMEZONE
BEGIN:VEVENT
DTSTART;VALUE=DATE:20260420
DTEND;VALUE=DATE:20260421
DTSTAMP:20260420T052740
CREATED:20251031T153323Z
LAST-MODIFIED:20251031T153323Z
UID:10025173-1776643200-1776729599@rasperadio.com
SUMMARY:Courtney Marie Andrews/Maia Friedman - Bowery Ballroom
DESCRIPTION:
URL:https://rasperadio.com/event/courtney-marie-andrews-maia-friedman-bowery-ballroom/
LOCATION:Bowery Ballroom\, 6 Delancey St\, New York\, NY\, 10002\, United States
END:VEVENT
BEGIN:VEVENT
DTSTART;VALUE=DATE:20260420
DTEND;VALUE=DATE:20260421
DTSTAMP:20260420T052740
CREATED:20251119T021237Z
LAST-MODIFIED:20251119T021237Z
UID:10025374-1776643200-1776729599@rasperadio.com
SUMMARY:Waxahatchee/MJ Lenderman/Brennan Wedl - Beacon Theatre
DESCRIPTION:
URL:https://rasperadio.com/event/waxahatchee-mj-lenderman-brennan-wedl-beacon-theatre/
LOCATION:Beacon Theatre\, 2124 Broadway\, New York\, NY\, 10023\, United States
ATTACH;FMTTYPE=image/png:https://rasperadio.com/wp-content/uploads/2021/11/beacon_theatre.png
END:VEVENT
BEGIN:VEVENT
DTSTART;VALUE=DATE:20260420
DTEND;VALUE=DATE:20260421
DTSTAMP:20260420T052740
CREATED:20260205T224204Z
LAST-MODIFIED:20260205T224204Z
UID:10026167-1776643200-1776729599@rasperadio.com
SUMMARY:Hail the Sun/Foxy Shazam/Makari - Irving Plaza
DESCRIPTION:
URL:https://rasperadio.com/event/hail-the-sun-foxy-shazam-makari-irving-plaza/
LOCATION:Irving Plaza\, 17 Irving Pl\, New York\, NY\, 10003\, United States
ATTACH;FMTTYPE=image/png:https://rasperadio.com/wp-content/uploads/2022/01/irving_plaza.png
END:VEVENT
BEGIN:VEVENT
DTSTART;VALUE=DATE:20260420
DTEND;VALUE=DATE:20260421
DTSTAMP:20260420T052740
CREATED:20260218T033120Z
LAST-MODIFIED:20260218T033120Z
UID:10026268-1776643200-1776729599@rasperadio.com
SUMMARY:Bruce Springsteen & The E Street Band - Prudential Center
DESCRIPTION:
URL:https://rasperadio.com/event/bruce-springsteen-the-e-street-band-prudential-center/
LOCATION:Prudential Center\, 25 Lafayette St\, Newark\, NJ\, 07102\, United States
ATTACH;FMTTYPE=image/png:https://rasperadio.com/wp-content/uploads/2022/04/prudential_center.png
END:VEVENT
BEGIN:VEVENT
DTSTART;VALUE=DATE:20260420
DTEND;VALUE=DATE:20260421
DTSTAMP:20260420T052740
CREATED:20260402T230647Z
LAST-MODIFIED:20260402T230647Z
UID:10026836-1776643200-1776729599@rasperadio.com
SUMMARY:Happy Mondays: American Girlfriend/Cory Blair/Heather Hills/Eefah - Wonder Bar
DESCRIPTION:
URL:https://rasperadio.com/event/happy-mondays-american-girlfriend-cory-blair-heather-hills-eefah-wonder-bar/
LOCATION:Wonder Bar\, 1213 N Ocean Ave\, Asbury Park\, NJ\, 07712\, United States
ATTACH;FMTTYPE=image/png:https://rasperadio.com/wp-content/uploads/2021/11/wonder_bar.png
END:VEVENT
BEGIN:VEVENT
DTSTART;VALUE=DATE:20260420
DTEND;VALUE=DATE:20260421
DTSTAMP:20260420T052740
CREATED:20260416T140745Z
LAST-MODIFIED:20260416T140745Z
UID:10026935-1776643200-1776729599@rasperadio.com
SUMMARY:James Maddock - Bitter End
DESCRIPTION:
URL:https://rasperadio.com/event/james-maddock-bitter-end-2/
LOCATION:Bitter End\, 147 Bleecker Street\, New York\, NY\, 10012\, United States
ATTACH;FMTTYPE=image/png:https://rasperadio.com/wp-content/uploads/2022/04/bitter_end.png
END:VEVENT
END:VCALENDAR