BEGIN:VCALENDAR
VERSION:2.0
PRODID:-//Raspe Radio - ECPv6.15.20//NONSGML v1.0//EN
CALSCALE:GREGORIAN
METHOD:PUBLISH
X-WR-CALNAME:Raspe Radio
X-ORIGINAL-URL:https://rasperadio.com
X-WR-CALDESC:Events for Raspe Radio
REFRESH-INTERVAL;VALUE=DURATION:PT1H
X-Robots-Tag:noindex
X-PUBLISHED-TTL:PT1H
BEGIN:VTIMEZONE
TZID:UTC
BEGIN:STANDARD
TZOFFSETFROM:+0000
TZOFFSETTO:+0000
TZNAME:UTC
DTSTART:20250101T000000
END:STANDARD
END:VTIMEZONE
BEGIN:VEVENT
DTSTART;VALUE=DATE:20260429
DTEND;VALUE=DATE:20260430
DTSTAMP:20260424T075610
CREATED:20250415T183418Z
LAST-MODIFIED:20250417T182347Z
UID:10022499-1777420800-1777507199@rasperadio.com
SUMMARY:Neighbors featuring James Maddock and Gordon Brown and friends - Palmetto
DESCRIPTION:
URL:https://rasperadio.com/event/neighbors-featuring-james-maddock-and-gordon-brown-and-friends-palmetto/2026-04-29/
LOCATION:Palmetto\, 1000 N Ocean Ave\, Asbury Park\, NJ\, 07712\, United States
ATTACH;FMTTYPE=image/jpeg:https://rasperadio.com/wp-content/uploads/2021/11/palmetto.jpg
END:VEVENT
BEGIN:VEVENT
DTSTART;VALUE=DATE:20260506
DTEND;VALUE=DATE:20260507
DTSTAMP:20260424T075610
CREATED:20250415T183418Z
LAST-MODIFIED:20250417T182347Z
UID:10022500-1778025600-1778111999@rasperadio.com
SUMMARY:Neighbors featuring James Maddock and Gordon Brown and friends - Palmetto
DESCRIPTION:
URL:https://rasperadio.com/event/neighbors-featuring-james-maddock-and-gordon-brown-and-friends-palmetto/2026-05-06/
LOCATION:Palmetto\, 1000 N Ocean Ave\, Asbury Park\, NJ\, 07712\, United States
ATTACH;FMTTYPE=image/jpeg:https://rasperadio.com/wp-content/uploads/2021/11/palmetto.jpg
END:VEVENT
BEGIN:VEVENT
DTSTART;VALUE=DATE:20260513
DTEND;VALUE=DATE:20260514
DTSTAMP:20260424T075610
CREATED:20250415T183418Z
LAST-MODIFIED:20250417T182347Z
UID:10022501-1778630400-1778716799@rasperadio.com
SUMMARY:Neighbors featuring James Maddock and Gordon Brown and friends - Palmetto
DESCRIPTION:
URL:https://rasperadio.com/event/neighbors-featuring-james-maddock-and-gordon-brown-and-friends-palmetto/2026-05-13/
LOCATION:Palmetto\, 1000 N Ocean Ave\, Asbury Park\, NJ\, 07712\, United States
ATTACH;FMTTYPE=image/jpeg:https://rasperadio.com/wp-content/uploads/2021/11/palmetto.jpg
END:VEVENT
BEGIN:VEVENT
DTSTART;VALUE=DATE:20260520
DTEND;VALUE=DATE:20260521
DTSTAMP:20260424T075610
CREATED:20250415T183418Z
LAST-MODIFIED:20250417T182347Z
UID:10022502-1779235200-1779321599@rasperadio.com
SUMMARY:Neighbors featuring James Maddock and Gordon Brown and friends - Palmetto
DESCRIPTION:
URL:https://rasperadio.com/event/neighbors-featuring-james-maddock-and-gordon-brown-and-friends-palmetto/2026-05-20/
LOCATION:Palmetto\, 1000 N Ocean Ave\, Asbury Park\, NJ\, 07712\, United States
ATTACH;FMTTYPE=image/jpeg:https://rasperadio.com/wp-content/uploads/2021/11/palmetto.jpg
END:VEVENT
BEGIN:VEVENT
DTSTART;VALUE=DATE:20260527
DTEND;VALUE=DATE:20260528
DTSTAMP:20260424T075610
CREATED:20250415T183418Z
LAST-MODIFIED:20250417T182347Z
UID:10022503-1779840000-1779926399@rasperadio.com
SUMMARY:Neighbors featuring James Maddock and Gordon Brown and friends - Palmetto
DESCRIPTION:
URL:https://rasperadio.com/event/neighbors-featuring-james-maddock-and-gordon-brown-and-friends-palmetto/2026-05-27/
LOCATION:Palmetto\, 1000 N Ocean Ave\, Asbury Park\, NJ\, 07712\, United States
ATTACH;FMTTYPE=image/jpeg:https://rasperadio.com/wp-content/uploads/2021/11/palmetto.jpg
END:VEVENT
BEGIN:VEVENT
DTSTART;VALUE=DATE:20260603
DTEND;VALUE=DATE:20260604
DTSTAMP:20260424T075610
CREATED:20250415T183418Z
LAST-MODIFIED:20250417T182347Z
UID:10022583-1780444800-1780531199@rasperadio.com
SUMMARY:Neighbors featuring James Maddock and Gordon Brown and friends - Palmetto
DESCRIPTION:
URL:https://rasperadio.com/event/neighbors-featuring-james-maddock-and-gordon-brown-and-friends-palmetto/2026-06-03/
LOCATION:Palmetto\, 1000 N Ocean Ave\, Asbury Park\, NJ\, 07712\, United States
ATTACH;FMTTYPE=image/jpeg:https://rasperadio.com/wp-content/uploads/2021/11/palmetto.jpg
END:VEVENT
BEGIN:VEVENT
DTSTART;VALUE=DATE:20260610
DTEND;VALUE=DATE:20260611
DTSTAMP:20260424T075610
CREATED:20250415T183418Z
LAST-MODIFIED:20250417T182347Z
UID:10022584-1781049600-1781135999@rasperadio.com
SUMMARY:Neighbors featuring James Maddock and Gordon Brown and friends - Palmetto
DESCRIPTION:
URL:https://rasperadio.com/event/neighbors-featuring-james-maddock-and-gordon-brown-and-friends-palmetto/2026-06-10/
LOCATION:Palmetto\, 1000 N Ocean Ave\, Asbury Park\, NJ\, 07712\, United States
ATTACH;FMTTYPE=image/jpeg:https://rasperadio.com/wp-content/uploads/2021/11/palmetto.jpg
END:VEVENT
BEGIN:VEVENT
DTSTART;VALUE=DATE:20260617
DTEND;VALUE=DATE:20260618
DTSTAMP:20260424T075610
CREATED:20250415T183418Z
LAST-MODIFIED:20250417T182347Z
UID:10022585-1781654400-1781740799@rasperadio.com
SUMMARY:Neighbors featuring James Maddock and Gordon Brown and friends - Palmetto
DESCRIPTION:
URL:https://rasperadio.com/event/neighbors-featuring-james-maddock-and-gordon-brown-and-friends-palmetto/2026-06-17/
LOCATION:Palmetto\, 1000 N Ocean Ave\, Asbury Park\, NJ\, 07712\, United States
ATTACH;FMTTYPE=image/jpeg:https://rasperadio.com/wp-content/uploads/2021/11/palmetto.jpg
END:VEVENT
BEGIN:VEVENT
DTSTART;VALUE=DATE:20260624
DTEND;VALUE=DATE:20260625
DTSTAMP:20260424T075610
CREATED:20250415T183418Z
LAST-MODIFIED:20250417T182347Z
UID:10022586-1782259200-1782345599@rasperadio.com
SUMMARY:Neighbors featuring James Maddock and Gordon Brown and friends - Palmetto
DESCRIPTION:
URL:https://rasperadio.com/event/neighbors-featuring-james-maddock-and-gordon-brown-and-friends-palmetto/2026-06-24/
LOCATION:Palmetto\, 1000 N Ocean Ave\, Asbury Park\, NJ\, 07712\, United States
ATTACH;FMTTYPE=image/jpeg:https://rasperadio.com/wp-content/uploads/2021/11/palmetto.jpg
END:VEVENT
END:VCALENDAR