BEGIN:VCALENDAR
VERSION:2.0
PRODID:-//Raspe Radio - ECPv6.15.20//NONSGML v1.0//EN
CALSCALE:GREGORIAN
METHOD:PUBLISH
X-WR-CALNAME:Raspe Radio
X-ORIGINAL-URL:https://rasperadio.com
X-WR-CALDESC:Events for Raspe Radio
REFRESH-INTERVAL;VALUE=DURATION:PT1H
X-Robots-Tag:noindex
X-PUBLISHED-TTL:PT1H
BEGIN:VTIMEZONE
TZID:UTC
BEGIN:STANDARD
TZOFFSETFROM:+0000
TZOFFSETTO:+0000
TZNAME:UTC
DTSTART:20250101T000000
END:STANDARD
END:VTIMEZONE
BEGIN:VEVENT
DTSTART;VALUE=DATE:20260502
DTEND;VALUE=DATE:20260503
DTSTAMP:20260421T014803
CREATED:20251015T152336Z
LAST-MODIFIED:20251029T025542Z
UID:10024652-1777680000-1777766399@rasperadio.com
SUMMARY:Sugar - Webster Hall
DESCRIPTION:
URL:https://rasperadio.com/event/sugar-webster-hall/2026-05-02/
LOCATION:Webster Hall\, 125 E 11th St\, New York\, NY\, 10003\, United States
ATTACH;FMTTYPE=image/jpeg:https://rasperadio.com/wp-content/uploads/2022/03/webster_hall.jpg
END:VEVENT
BEGIN:VEVENT
DTSTART;VALUE=DATE:20260503
DTEND;VALUE=DATE:20260504
DTSTAMP:20260421T014803
CREATED:20251015T152336Z
LAST-MODIFIED:20251029T025542Z
UID:10024653-1777766400-1777852799@rasperadio.com
SUMMARY:Sugar - Webster Hall
DESCRIPTION:
URL:https://rasperadio.com/event/sugar-webster-hall/2026-05-03/
LOCATION:Webster Hall\, 125 E 11th St\, New York\, NY\, 10003\, United States
ATTACH;FMTTYPE=image/jpeg:https://rasperadio.com/wp-content/uploads/2022/03/webster_hall.jpg
END:VEVENT
BEGIN:VEVENT
DTSTART;VALUE=DATE:20260504
DTEND;VALUE=DATE:20260505
DTSTAMP:20260421T014803
CREATED:20251015T152336Z
LAST-MODIFIED:20251029T025542Z
UID:10025159-1777852800-1777939199@rasperadio.com
SUMMARY:Sugar - Webster Hall
DESCRIPTION:
URL:https://rasperadio.com/event/sugar-webster-hall/2026-05-04/
LOCATION:Webster Hall\, 125 E 11th St\, New York\, NY\, 10003\, United States
ATTACH;FMTTYPE=image/jpeg:https://rasperadio.com/wp-content/uploads/2022/03/webster_hall.jpg
END:VEVENT
END:VCALENDAR