BEGIN:VCALENDAR
VERSION:2.0
PRODID:-//Raspe Radio - ECPv6.15.20//NONSGML v1.0//EN
CALSCALE:GREGORIAN
METHOD:PUBLISH
X-WR-CALNAME:Raspe Radio
X-ORIGINAL-URL:https://rasperadio.com
X-WR-CALDESC:Events for Raspe Radio
REFRESH-INTERVAL;VALUE=DURATION:PT1H
X-Robots-Tag:noindex
X-PUBLISHED-TTL:PT1H
BEGIN:VTIMEZONE
TZID:UTC
BEGIN:STANDARD
TZOFFSETFROM:+0000
TZOFFSETTO:+0000
TZNAME:UTC
DTSTART:20250101T000000
END:STANDARD
END:VTIMEZONE
BEGIN:VEVENT
DTSTART;VALUE=DATE:20260423
DTEND;VALUE=DATE:20260424
DTSTAMP:20260420T010349
CREATED:20251106T202022Z
LAST-MODIFIED:20251211T180830Z
UID:10025236-1776902400-1776988799@rasperadio.com
SUMMARY:Modi: Live at Radio City! - Radio City Music Hall
DESCRIPTION:
URL:https://rasperadio.com/event/modi-live-at-radio-city-radio-city-music-hall/2026-04-23/
LOCATION:Radio City Music Hall\, 1260 6th Ave\, New York\, NY\, 10020\, United States
ATTACH;FMTTYPE=image/jpeg:https://rasperadio.com/wp-content/uploads/2022/03/radio_city_music_hall.jpg
END:VEVENT
BEGIN:VEVENT
DTSTART;VALUE=DATE:20260430
DTEND;VALUE=DATE:20260501
DTSTAMP:20260420T010349
CREATED:20251106T202022Z
LAST-MODIFIED:20251211T180830Z
UID:10025598-1777507200-1777593599@rasperadio.com
SUMMARY:Modi: Live at Radio City! - Radio City Music Hall
DESCRIPTION:
URL:https://rasperadio.com/event/modi-live-at-radio-city-radio-city-music-hall/2026-04-30/
LOCATION:Radio City Music Hall\, 1260 6th Ave\, New York\, NY\, 10020\, United States
ATTACH;FMTTYPE=image/jpeg:https://rasperadio.com/wp-content/uploads/2022/03/radio_city_music_hall.jpg
END:VEVENT
END:VCALENDAR