BEGIN:VCALENDAR
VERSION:2.0
PRODID:-//Raspe Radio - ECPv6.15.20//NONSGML v1.0//EN
CALSCALE:GREGORIAN
METHOD:PUBLISH
X-WR-CALNAME:Raspe Radio
X-ORIGINAL-URL:https://rasperadio.com
X-WR-CALDESC:Events for Raspe Radio
REFRESH-INTERVAL;VALUE=DURATION:PT1H
X-Robots-Tag:noindex
X-PUBLISHED-TTL:PT1H
BEGIN:VTIMEZONE
TZID:UTC
BEGIN:STANDARD
TZOFFSETFROM:+0000
TZOFFSETTO:+0000
TZNAME:UTC
DTSTART:20250101T000000
END:STANDARD
END:VTIMEZONE
BEGIN:VEVENT
DTSTART;VALUE=DATE:20260506
DTEND;VALUE=DATE:20260507
DTSTAMP:20260424T051130
CREATED:20260421T133747Z
LAST-MODIFIED:20260421T133747Z
UID:10027354-1778025600-1778111999@rasperadio.com
SUMMARY:Jesse Malin's Silver Manhattan - Bowery Palace
DESCRIPTION:
URL:https://rasperadio.com/event/jesse-malins-silver-manhattan-bowery-palace-11/2026-05-06/
LOCATION:Bowery Palace (fka Bowery Electric)\, 327 Bowery\, New York\, NY\, 10003\, United States
ATTACH;FMTTYPE=image/webp:https://rasperadio.com/wp-content/uploads/2021/11/bowery_palace.webp
END:VEVENT
BEGIN:VEVENT
DTSTART;VALUE=DATE:20260507
DTEND;VALUE=DATE:20260508
DTSTAMP:20260424T051130
CREATED:20260421T133747Z
LAST-MODIFIED:20260421T133747Z
UID:10027355-1778112000-1778198399@rasperadio.com
SUMMARY:Jesse Malin's Silver Manhattan - Bowery Palace
DESCRIPTION:
URL:https://rasperadio.com/event/jesse-malins-silver-manhattan-bowery-palace-11/2026-05-07/
LOCATION:Bowery Palace (fka Bowery Electric)\, 327 Bowery\, New York\, NY\, 10003\, United States
ATTACH;FMTTYPE=image/webp:https://rasperadio.com/wp-content/uploads/2021/11/bowery_palace.webp
END:VEVENT
BEGIN:VEVENT
DTSTART;VALUE=DATE:20260508
DTEND;VALUE=DATE:20260509
DTSTAMP:20260424T051130
CREATED:20260421T133747Z
LAST-MODIFIED:20260421T133747Z
UID:10027356-1778198400-1778284799@rasperadio.com
SUMMARY:Jesse Malin's Silver Manhattan - Bowery Palace
DESCRIPTION:
URL:https://rasperadio.com/event/jesse-malins-silver-manhattan-bowery-palace-11/2026-05-08/
LOCATION:Bowery Palace (fka Bowery Electric)\, 327 Bowery\, New York\, NY\, 10003\, United States
ATTACH;FMTTYPE=image/webp:https://rasperadio.com/wp-content/uploads/2021/11/bowery_palace.webp
END:VEVENT
BEGIN:VEVENT
DTSTART;VALUE=DATE:20260509
DTEND;VALUE=DATE:20260510
DTSTAMP:20260424T051130
CREATED:20260421T133747Z
LAST-MODIFIED:20260421T133747Z
UID:10027357-1778284800-1778371199@rasperadio.com
SUMMARY:Jesse Malin's Silver Manhattan - Bowery Palace
DESCRIPTION:
URL:https://rasperadio.com/event/jesse-malins-silver-manhattan-bowery-palace-11/2026-05-09/
LOCATION:Bowery Palace (fka Bowery Electric)\, 327 Bowery\, New York\, NY\, 10003\, United States
ATTACH;FMTTYPE=image/webp:https://rasperadio.com/wp-content/uploads/2021/11/bowery_palace.webp
END:VEVENT
BEGIN:VEVENT
DTSTART;VALUE=DATE:20260510
DTEND;VALUE=DATE:20260511
DTSTAMP:20260424T051130
CREATED:20260421T133747Z
LAST-MODIFIED:20260421T133747Z
UID:10027358-1778371200-1778457599@rasperadio.com
SUMMARY:Jesse Malin's Silver Manhattan - Bowery Palace
DESCRIPTION:
URL:https://rasperadio.com/event/jesse-malins-silver-manhattan-bowery-palace-11/2026-05-10/
LOCATION:Bowery Palace (fka Bowery Electric)\, 327 Bowery\, New York\, NY\, 10003\, United States
ATTACH;FMTTYPE=image/webp:https://rasperadio.com/wp-content/uploads/2021/11/bowery_palace.webp
END:VEVENT
END:VCALENDAR